BEGIN:VCALENDAR
VERSION:2.0
PRODID:-//The Hidden Leaf - ECPv6.15.17.1//NONSGML v1.0//EN
CALSCALE:GREGORIAN
METHOD:PUBLISH
X-ORIGINAL-URL:https://www.hiddenleafcville.com
X-WR-CALDESC:Events for The Hidden Leaf
REFRESH-INTERVAL;VALUE=DURATION:PT1H
X-Robots-Tag:noindex
X-PUBLISHED-TTL:PT1H
BEGIN:VTIMEZONE
TZID:America/New_York
BEGIN:DAYLIGHT
TZOFFSETFROM:-0500
TZOFFSETTO:-0400
TZNAME:EDT
DTSTART:20220313T070000
END:DAYLIGHT
BEGIN:STANDARD
TZOFFSETFROM:-0400
TZOFFSETTO:-0500
TZNAME:EST
DTSTART:20221106T060000
END:STANDARD
BEGIN:DAYLIGHT
TZOFFSETFROM:-0500
TZOFFSETTO:-0400
TZNAME:EDT
DTSTART:20230312T070000
END:DAYLIGHT
BEGIN:STANDARD
TZOFFSETFROM:-0400
TZOFFSETTO:-0500
TZNAME:EST
DTSTART:20231105T060000
END:STANDARD
BEGIN:DAYLIGHT
TZOFFSETFROM:-0500
TZOFFSETTO:-0400
TZNAME:EDT
DTSTART:20240310T070000
END:DAYLIGHT
BEGIN:STANDARD
TZOFFSETFROM:-0400
TZOFFSETTO:-0500
TZNAME:EST
DTSTART:20241103T060000
END:STANDARD
BEGIN:DAYLIGHT
TZOFFSETFROM:-0500
TZOFFSETTO:-0400
TZNAME:EDT
DTSTART:20250309T070000
END:DAYLIGHT
BEGIN:STANDARD
TZOFFSETFROM:-0400
TZOFFSETTO:-0500
TZNAME:EST
DTSTART:20251102T060000
END:STANDARD
END:VTIMEZONE
BEGIN:VEVENT
DTSTART;TZID=America/New_York:20240309T180000
DTEND;TZID=America/New_York:20240309T220000
DTSTAMP:20260421T035604
CREATED:20240308T180622Z
LAST-MODIFIED:20240308T180622Z
UID:1890-1710007200-1710021600@www.hiddenleafcville.com
SUMMARY:Frosty Fridays
DESCRIPTION:
URL:https://www.hiddenleafcville.com/event/frosty-fridays/
LOCATION:The Hidden Leaf
CATEGORIES:Club Events
ATTACH;FMTTYPE=image/png:https://www.hiddenleafcville.com/wp-content/uploads/2024/03/frosty-fridays-1.png
END:VEVENT
BEGIN:VEVENT
DTSTART;TZID=America/New_York:20230625T140000
DTEND;TZID=America/New_York:20230625T190000
DTSTAMP:20260421T035604
CREATED:20230622T141514Z
LAST-MODIFIED:20230622T142105Z
UID:551-1687701600-1687719600@www.hiddenleafcville.com
SUMMARY:The Hidden Leaf Lounge Grand Opening Event
DESCRIPTION:The Hidden Leaf welcomes you to the GRAND OPENING with live music and live demos all weekend long! Enjoy your favorite treats with the chillest vibes all weekend long.\nCatch Charlottesville’s rising star\, Erin & The Wildfire on Saturday\, and Cville’s best Grateful Dead cover band\, the Day of the Dead Allstars on Sunday!
URL:https://www.hiddenleafcville.com/event/the-hidden-leaf-lounge-grand-opening-event/
LOCATION:The Hidden Leaf
CATEGORIES:Club Events
ATTACH;FMTTYPE=image/jpeg:https://www.hiddenleafcville.com/wp-content/uploads/2023/06/The-Hidden-Leaf-Grand-Opening-Flyer-2023.jpg
END:VEVENT
BEGIN:VEVENT
DTSTART;TZID=America/New_York:20230624T140000
DTEND;TZID=America/New_York:20230624T223000
DTSTAMP:20260421T035604
CREATED:20230622T140239Z
LAST-MODIFIED:20230622T142239Z
UID:548-1687615200-1687645800@www.hiddenleafcville.com
SUMMARY:The Hidden Leaf Lounge Grand Opening Weekend
DESCRIPTION:The Hidden Leaf welcomes you to it’s GRAND OPENING EVENT with samples\, a live glass blowing event\, and live music by Charlottesville’s rising star\, Erin & The Wildfire (Saturday Night\, 8:30PM)\, and The Day of the Dead Allstars (Sunday\, 3-6PM).
URL:https://www.hiddenleafcville.com/event/hidden-leaf-lounge-grand-opening/
LOCATION:The Hidden Leaf
CATEGORIES:Club Events
ATTACH;FMTTYPE=image/jpeg:https://www.hiddenleafcville.com/wp-content/uploads/2023/06/The-Hidden-Leaf-Grand-Opening-Flyer-2023.jpg
END:VEVENT
BEGIN:VEVENT
DTSTART;TZID=America/New_York:20230518T190000
DTEND;TZID=America/New_York:20230518T203000
DTSTAMP:20260421T035604
CREATED:20230401T231828Z
LAST-MODIFIED:20230509T152625Z
UID:340-1684436400-1684441800@www.hiddenleafcville.com
SUMMARY:Blaze & Bend Yoga
DESCRIPTION:Unwind with your choice of treat and healing yoga lead by Leslie.
URL:https://www.hiddenleafcville.com/event/blaze-and-bend-yoga-in-charlottesville-may-18/
LOCATION:The Hidden Leaf
CATEGORIES:Club Events
ATTACH;FMTTYPE=image/jpeg:https://www.hiddenleafcville.com/wp-content/uploads/2023/01/IMG_0437.jpeg
END:VEVENT
BEGIN:VEVENT
DTSTART;TZID=America/New_York:20230504T190000
DTEND;TZID=America/New_York:20230504T203000
DTSTAMP:20260421T035604
CREATED:20230120T112434Z
LAST-MODIFIED:20230504T004712Z
UID:194-1683226800-1683232200@www.hiddenleafcville.com
SUMMARY:Blaze & Bend Yoga
DESCRIPTION:Relax and unwind with Leslie. Choose your complimentary gift and heal your body with movement.
URL:https://www.hiddenleafcville.com/event/blaze-and-bend-yoga-in-charlottesville-may-4/
LOCATION:The Hidden Leaf
CATEGORIES:Club Events
ATTACH;FMTTYPE=image/png:https://www.hiddenleafcville.com/wp-content/uploads/2023/01/Untitled-design.png
END:VEVENT
BEGIN:VEVENT
DTSTART;TZID=America/New_York:20230408T180000
DTEND;TZID=America/New_York:20230408T210000
DTSTAMP:20260421T035604
CREATED:20230120T113430Z
LAST-MODIFIED:20230402T181659Z
UID:200-1680976800-1680987600@www.hiddenleafcville.com
SUMMARY:Frosty Fridays
DESCRIPTION:Charlottesville’s best cannabis popup. Art\, glass\, treats\, and good peeps.
URL:https://www.hiddenleafcville.com/event/party-glory/
LOCATION:The Hidden Leaf
CATEGORIES:Club Events,Cville Events
ATTACH;FMTTYPE=image/jpeg:https://www.hiddenleafcville.com/wp-content/uploads/2023/01/251A8306-9AC4-4170-AB6D-ED709C89CF46.jpeg
END:VEVENT
BEGIN:VEVENT
DTSTART;TZID=America/New_York:20230315T150000
DTEND;TZID=America/New_York:20230315T163000
DTSTAMP:20260421T035604
CREATED:20230311T212858Z
LAST-MODIFIED:20230508T103423Z
UID:314-1678892400-1678897800@www.hiddenleafcville.com
SUMMARY:Healing Savasana with Reiki
DESCRIPTION:A meditative and traditional healing session\, with your choice of treat\, led by The Hidden Leaf’s resident Yogi & Reiki specialist\, Leslie.
URL:https://www.hiddenleafcville.com/event/healing-savasana-with-reiki/
LOCATION:The Hidden Leaf
CATEGORIES:Club Events
ATTACH;FMTTYPE=image/jpeg:https://www.hiddenleafcville.com/wp-content/uploads/2023/03/ksenia-makagonova-V-TIPBoC_2M-unsplash-scaled.jpg
END:VEVENT
END:VCALENDAR